Workbook

Sheet Project Team
A1: Project Team
A2: Profitable Bank, November 2022
A4: Business Owners:
A6: Sr. Executive Sponsor | B6: PJ | C6: Arkansas | D6: Co-Founder, Chief Banking Officer
A7: Finance | B7: JS | C7: Arkansas | D7: CFO
A8: Incentives | B8: GE | C8: Florida | D8: CRO
A9: Commercial Lending | B9: CH | C9: Arkansas | D9: Chief Lending Officer
A10: Treasury | B10: NP | C10: Arkansas | D10: SVP, Director of BBS (Treasury)
A11: Consumer | B11: MH | C11: Arkansas | D11: EVP, Regional President, Concierge Banking
A12: Marketing | B12: BJ | C12: Arkansas | D12: CMO
A14: Other Stakeholders:
A16: Operations | B16: KD | C16: Arkansas | D16: SVP, Director of Digital Banking, Deposit Operations
A17: Regional President | B17: MM | C17: Texas | D17: EVP, Regional President, Dallas
A18: Regional President | B18: MS | C18: Carolina's | D18: EVP, Regional President, Carolina's
A19: Regional President | B19: DC | C19: Florida | D19: EVP, Regional President, Tampa
A20: Regional President | B20: LA | C20: Texas | D20: EVP, Regional President, San Antonio
A21: Market President | B21: FM | C21: Carolina's | D21: SVP, Market President, Charleston
A23: Banker (Commercial) | B23: BK | C23: Florida | D23: SVP, Relationship Manager, Tampa
A24: Banker (Treasury) | B24: YM | C24: Texas | D24: EVP, Regional Treasury, San Antonio
A25: Banker (Commercial) | B25: JL | C25: Texas | D25: SVP, Relationship Manager, San Antonio

Sheet Side-By-Side
A1: Project Assessment
A2: Profitable Bank, November 2022
B3: BSE (White Clay) | C3: BSE (White Clay) | D3: SNL (S&P) | E3: SNL (S&P) | F3: Precision Lender (Q2) | G3: Precision Lender (Q2) | H3: Financial Services Cloud (Salesforce) | I3: SFC (Salesforce)
B4: Annual Fees | C4: One-Time Fees | D4: Annual Fees | E4: One-Time Fees | F4: Annual Fees | G4: One-Time Fees | H4: Annual Fees | I4: One-Time Fees
A5: CRM | B5: Basic | D5: No CRM or Pipeline tool available | F5: Delivered through Salesforce CRM @ additional cost of ~$100/User | H5: Salesforce
A6: Pricing Engine (Commercial) | H6: Revenue Cloud
A7: Board Reporting | B7: None beyond Pipeline, Asset/Liability Info. | D7: Could replace Bankers Dashboard | F7: None beyond Pipeline, Asset/Liability Info.
A8: Budgeting | B8: None beyond Pipeline, Asset/Liability Info. | D8: Could replace Bankers Dashboard | F8: None beyond Pipeline, Asset/Liability Info.
A9: Forecasting | B9: None beyond Pipeline, Asset/Liability Info. | D9: Could replace Bankers Dashboard | F9: None beyond Pipeline, Asset/Liability Info.
A10: Reporting and Profitability | H10: Through CRM Analytics
A11: Incentives | B11: Basic data included or purchase full app | F11: Basic included | H11: Financial Services Cloud ("FSC")
A12: Householding | H12: Financial Services Cloud ("FSC")
A13: Competitor Information | B13: Leverage existing S&P data | D13: Current S&P Subscription | F13: Leverage existing PL client data
A14: Integration Options | B14: TM | F14: TM, Swaps and FX
A15: Existing Vendor | B15: New MSA Required (VDD Complete) | D15: SA-QFS-SOW (S&P Paper) | F15: Addendum to MSA (VDD Complete) | H15: New MSA Required
A16: Connectivity to Other Systems | B16: Requires Development | D16: Requires Development | F16: Requires Development | H16: Requires Development
A17: Licenses | B17: "Bank Wide" License | D17: "Bank Wide" License | F17: "Bank Wide" License | H17: Limited to 100
A18: Contract Term | D18: Concurrent with existing (6/2024) | F18: Concurrent with existing | H18: 3-Years
A19: Cross-Functional | B19: No, Comm'l and Consumer Only (Not Mortgage Specific, but Encompass data could be fed in) | D19: No, Comm'l Only (Not Mortgage Specific) | F19: No, Comm'l and Consumer Only (Not Mortgage Specific, but Encompass data could be fed in) | H19: No, Comm'l Only (Not Mortgage Specific)
A21: Notes:
A22: Implementation | B22: Extensive implementation experience. Previous experience within Encore. LB has trained 100's of users. Unlimted users and support | D22: New implementation, but using other S&P products. | F22: Currently implementing with Q2. Efficient implementation given experience with other Q2 products. No contract negotiation. Unlimited users and unlimited support with PL. | H22: New implementation.
A23: Integration Options | B23: TM data included. Capable of including basic fee information from SWAP's and FX. | D23: Existing integration to Q2 and Encompass. CSV files out of Data Warehouse for other vendors. Other vendors can connect to S&P SQL database. | F23: Existing integration options for TM through Q2 and Swaps and FX through Derivative Path. Others through Q2 Marketplace. | H23: No known integrations.
A24: Reporting Data | B24: Good reporting package. Exports to Tableau or other visualization tool. | D24: Includes board reporting and budgeting functionality. | F24: No data purge. Exports to Tableau or other visualization tools available (beyond Standard Reporting already included). Data Studio may be a resource to us in the future. | H24: Delivered through CRM Analytics tool at an additional cost.
A25: Competitor Information | B25: Ability to pull in Encore's existing S&P competitor data through existing contract. | D25: Strong competitor pricing information given S&P acquisition. | F25: Competitor information offered based on aggregation of data from 175 existing clients (anonymous). Data driven market insights. | H25: Possible, but may not be base product.
A26: CRM | B26: Includes a pipeline tool and CRM functionality (pipelines + client and prospect management + portfolio alerts). | D26: Does not include a pipeline tool or CRM. Could produce pipeline if connected to CRM or LOS. | F26: PL already has full pipeline tool which should be adequate for Encore, but CRM capabilities would be through Salesforce (if necessary). | H26: Salesforce CRM.
A27: Incentive Modeling | B27: Basic incentives data included; full incentives module requires additional charge. Full module will integrate goals with with actual data and provide weekly updates to Bankers on incentives. | D27: Comparable to Data Warehouse model. Capable of complex incentive reporting. | F27: Incl. in base package are data and reports to do incentives. Only includes anything loaded or sent to PL (ex. core data). Portolio profitability, loan, deposit and fee goals and production will all be ready to pass to payroll. | H27: More information available, but incentive modeling is available.
A28: Market Level Reporting | B28: Includes reporting at the bank, market, branch, Banker, client and product level. | D28: Yes, reporting from customer transaction all the way to bank-wide, including branches and regions. | F28: Includes reporting on market and individual level for only information loaded into PL. | H28: Delivered through CRM Analytics tool at an additional cost.
A29: Treasury Pricing | B29: Available at an extra charge. Regular pricing model capable of including high level treasury fees. | D29: Available in data warehouse with Q2 database (SQL database) already connected. Data model used to clean data. Not a specific treasury pricing module. | F29: Available at an extra charge. Client facing proforma. Granular (ACH, Lockbox, etc.). TMO pricing visible to Banker. Andi skills already in base platform (Banker coaching skills). | H29: Part of Revenue Cloud and connected to SFC. Additional pricing for Revenue Cloud.
A30: Pricing Adjustments | B30: Pricing would be adjusted to $240K/Year at $4B in assets assumed in Q2 2024. | D30: Already paying for Market Intelligence tool and Comm'l Prospecting tool through 2024. $6-7K increases in Y2 and Y3. | F30: 10% reduction in pricing as a Q2 client. TBD, but possible annual escalator (no commitment on annual escalator from Q2). | H30: Incl. 100 licenses for SFC, Inbox and CRM Analytics. Additional at $165 (SFC) and $120 (Analytics)
A31: LOS Connector | B31: White Clay is including LOS Connector to HR at no charge. | D31: Included $25K for connectivity to LOS and CRM. | F31: Included in pricing estimate for PL product and outlined below.
A32: Future Roadmap | B32: Devoting significant resources to product upgrades including Treasury pricing, AI/ML capabilities (Banker Assistant), UI updates, external data source capabilities and admin portal capabilities. | D32: Predictive model continue to develop Best Next Product. More PowerBI functionality development. Low Code, No Code development. | F32: Extensive resources being devoted to PL, ongoing support including annual assumptions review. Upgrades to AI tool (Andi)
A34: Base Cost Breakdown:
A36: Implementation Fees | C36: =C46 -> 150000 | E36: 125250 | G36: =G46+G49+G52 -> 122500 | I36: 0
A37: Commercial Pricing (Base Module) | B37: =B46 -> 180000 | C37: 0 | D37: 153000 | E37: 0 | F37: =(F46)*0.9 -> 123495.3 | G37: 0 | H37: 198000 | I37: 0
A38: Connectivity | B38: 0 | C38: 0 | D38: 0 | E38: 25000 | F38: =F52 -> 30874.5 | G38: 0 | H38: 0 | I38: 0
B39: =SUM(B36:B38) -> 180000 | C39: =SUM(C36:C38) -> 150000 | D39: =SUM(D36:D38) -> 153000 | E39: =SUM(E36:E38) -> 150250 | F39: =SUM(F36:F38) -> 154369.8 | G39: =SUM(G36:G38) -> 122500 | H39: =SUM(H36:H38) -> 198000 | I39: =SUM(I36:I38) -> 0
A41: Estimated Year One Cost (2023): | B41: =B39+C39 -> 330000 | F41: =F39+G39 -> 276869.8
A42: Estimated Year Two Cost (2024): | B42: =B37 -> 180000 | F42: =F37 -> 123495.3
A44: Itemized Cost Breakdown (A through I):
A46: A. Comm'l Pricing Platform | B46: 180000 | C46: 150000 | D46: 0 | E46: 0 | F46: 137217 | G46: 50000 | H46: 0 | I46: 0
...

Sheet Scorecard
A1: Project Scorecard
A2: Profitable Bank, November 2022
A3: Scorecard (Ranking: 0.000 through 5.000 (Best = 5.000, Inadequte = 0.000)
A5: Input Cells In Green (Numerical Range from 0.000 to 5.000)
A7: Main Categories | B7: Category Weighting (%) | C7: Example | D7: BSE (White Clay) | E7: Precision Lender (Q2) | F7: Explanation
A8: Product Helps Us Optimize Capital and Generate Revenue | B8: 20 | C8: 4.85 | D8: ='Raw Scores'!S7 -> 3.06875 | E8: ='Raw Scores'!S18 -> 3.09375 | F8: Encore has a finite amount of capital and needs to get the best return possible (ROA, ROE, etc.).
A9: Product Helps Us "Cross-Sell" Relationships | B9: 15 | C9: 4.2 | D9: ='Raw Scores'!S8 -> 3.2125 | E9: ='Raw Scores'!S19 -> 2.740625 | F9: "Cross-Sell" includes Treasury, SWAP's, Foreign Exchange and other non-interest revenue related products.
A10: Product Helps Us Manage Incentives | B10: 15 | C10: 4 | D10: ='Raw Scores'!S9 -> 3.078125 | E10: ='Raw Scores'!S20 -> 1.609375 | F10: Includes measuring "Roadmap to Success" metrics and calculating incentives based on goals.
A11: Product Helps Us With Portfolio Management | B11: 15 | C11: 4.5 | D11: ='Raw Scores'!S10 -> 3.253125 | E11: ='Raw Scores'!S21 -> 1.959375 | F11: Real-time or weekly portfolio movements across assets, liabilities and P&L. Includes "householding" capabilities.
A12: Product Helps Us With Portfolio Reporting | B12: 15 | C12: 4.2 | D12: ='Raw Scores'!S11 -> 3.278125 | E12: ='Raw Scores'!S22 -> 1.978125 | F12: Tracking against expectations at bank level, market level, Banker level.
A13: Product Helps Us With Pipeline Management & Tracking | B13: 10 | C13: 3.75 | D13: ='Raw Scores'!S12 -> 3.2125 | E13: ='Raw Scores'!S23 -> 2.746875 | F13: Tracking pipelines across asset, liability and P&L categories.
A14: Product Helps Us Identify Coaching Opportunities | B14: 5 | C14: 4.25 | D14: ='Raw Scores'!S13 -> 3.075 | E14: ='Raw Scores'!S24 -> 2.315625 | F14: Efficient identification of areas where relationships can be expanded.
A15: Product Helps Us Understand Competitor Pricing | B15: 5 | C15: 3.5 | D15: ='Raw Scores'!S14 -> 2.240625 | E15: ='Raw Scores'!S25 -> 2.728125 | F15: Efficiently incorporates other bank pricing information.
A16: Weighted Average (8 Categories) | B16: =SUM(B8:B15) -> 100 | C16: =SUMPRODUCT(B8:B15,C8:C15)/SUM(B8:B15) -> 4.2675 | D16: =SUMPRODUCT(B8:B15,D8:D15)/SUM(B8:B15) -> 3.1240625 | E16: =SUMPRODUCT(B8:B15,E8:E15)/SUM(B8:B15) -> 2.38875
A18: Modifiers | C18: Example | D18: BSE (White Clay) | E18: Precision Lender (Q2) | F18: Explanation
A19: Product Implementation Expertise | C19: 0.05 | D19: 0.075 | E19: 0 | F19: Existing implementation and training SME's within Encore
A20: Integrations w/ Existing Partners | C20: 0.05 | D20: 0 | E20: 0.05 | F20: Integrations with existing partners including Derivative Path
A21: Existing MSA or New MSA | C21: 0.05 | D21: 0 | E21: 0.05 | F21: Negotiation of new MSA or addendum to existing MSA (Time and Expenses)
A22: Sales Campaign Capabilities | C22: 0.025 | D22: 0.025 | E22: 0 | F22: Ability to run sales campaigns or investor campaigns
A24: Weighted Average + Modifiers | C24: =C16+C19+C21+C22 -> 4.3925 | D24: =D16+D19+D21+D22 -> 3.2240625 | E24: =E16+E19+E20+E21+E22 -> 2.48875

Sheet Update Notes
A1: Precision Lender Upgrades (PL Acquired by Q2 November 2019)
A3: We introduced Andi in 2018.
A4: We’ve opened the Andi Skills Gallery which currently offers more than 50 (and counting) additional skills that management can enable to further the coaching experience. Some examples:
A5: Solving for the target ROE by using other fees like unused lines of credit
A6: Warning against teaser rates on adjustable rate loans
A7: Recommendations against higher LTVs, longer durations, no/low fees, etc.
A8: The introduction of Portfolio Insights which contains
A9: RM Pipeline Scorecards
A10: RM Portfolio Scorecards
A11: RM Leaderboards
A12: Reports on Relationship Anomalies
A13: Relationship Activity Warnings
... A36: Ability to operationalize data at the banker level was developed and improved over the course of 15 years

Sheet Raw Scores
A1: Project Scorecard
A2: Profitable Bank, November 2022
A3: Scorecard (Ranking: 0.000 through 5.000 (Best = 5.000, Inadequte = 0.000)
B5: PJ | C5: JS | D5: GE | E5: CH | F5: NP | G5: MH | H5: BJ | I5: KD | J5: MM | K5: MS | L5: DC | M5: LA | N5: FM | O5: BK | P5: YM | Q5: JL | S5: Category
A6: Main Categories | B6: BSE (White Clay) | C6: BSE (White Clay) | D6: BSE (White Clay) | E6: BSE (White Clay) | F6: BSE (White Clay) | G6: BSE (White Clay) | H6: BSE (White Clay) | I6: BSE (White Clay) | J6: BSE (White Clay) | K6: BSE (White Clay) | L6: BSE (White Clay) | M6: BSE (White Clay) | N6: BSE (White Clay) | O6: BSE (White Clay) | P6: BSE (White Clay) | Q6: BSE (White Clay) | S6: Averages
A7: Product Helps Us Optimize Capital and Generate Revenue | B7: 0 | C7: 4 | D7: 4 | E7: 4 | F7: 4 | G7: 4.5 | H7: 0 | I7: 0 | J7: 3 | K7: 4.5 | L7: 4.25 | M7: 0 | N7: 4 | O7: 4.85 | P7: 4 | Q7: 4 | S7: =AVERAGE(B7:Q7) -> 3.06875
A8: Product Helps Us "Cross-Sell" Relationships | B8: 0 | C8: 5 | D8: 4 | E8: 5 | F8: 4.5 | G8: 4.75 | H8: 0 | I8: 0 | J8: 5 | K8: 3.25 | L8: 4.25 | M8: 0 | N8: 3 | O8: 4.65 | P8: 4 | Q8: 4 | S8: =AVERAGE(B8:Q8) -> 3.2125
A9: Product Helps Us Manage Incentives | B9: 0 | C9: 4 | D9: 4.5 | E9: 5 | F9: 4 | G9: 4.75 | H9: 0 | I9: 0 | J9: 5 | K9: 3.25 | L9: 4 | M9: 0 | N9: 3 | O9: 4.75 | P9: 4 | Q9: 3 | S9: =AVERAGE(B9:Q9) -> 3.078125
A10: Product Helps Us With Portfolio Management | B10: 0 | C10: 4 | D10: 5 | E10: 5 | F10: 4 | G10: 4.5 | H10: 0 | I10: 0 | J10: 5 | K10: 4.25 | L10: 4 | M10: 0 | N10: 4.5 | O10: 4.8 | P10: 4 | Q10: 3 | S10: =AVERAGE(B10:Q10) -> 3.253125
A11: Product Helps Us With Portfolio Reporting | B11: 0 | C11: 3 | D11: 4.5 | E11: 5 | F11: 5 | G11: 4 | H11: 0 | I11: 0 | J11: 5 | K11: 4.5 | L11: 4 | M11: 0 | N11: 4.5 | O11: 4.95 | P11: 4 | Q11: 4 | S11: =AVERAGE(B11:Q11) -> 3.278125
A12: Product Helps Us With Pipeline Management & Tracking | B12: 0 | C12: 4 | D12: 5 | E12: 4 | F12: 4.5 | G12: 4 | H12: 0 | I12: 0 | J12: 5 | K12: 4.5 | L12: 4 | M12: 0 | N12: 4 | O12: 4.9 | P12: 3.5 | Q12: 4 | S12: =AVERAGE(B12:Q12) -> 3.2125
A13: Product Helps Us Identify Coaching Opportunities | B13: 0 | C13: 3 | D13: 3 | E13: 5 | F13: 4.8 | G13: 4.25 | H13: 0 | I13: 0 | J13: 5 | K13: 4.25 | L13: 4 | M13: 0 | N13: 4 | O13: 4.9 | P13: 4 | Q13: 3 | S13: =AVERAGE(B13:Q13) -> 3.075
A14: Product Helps Us Understand Competitor Pricing | B14: 0 | C14: 0 | D14: 4 | E14: 1 | F14: 4 | G14: 4.5 | H14: 0 | I14: 0 | J14: 1 | K14: 4 | L14: 3 | M14: 0 | N14: 3.5 | O14: 4.85 | P14: 3 | Q14: 3 | S14: =AVERAGE(B14:Q14) -> 2.240625
S16: Category
A17: Main Categories | B17: Precision Lender (Q2) | C17: Precision Lender (Q2) | D17: Precision Lender (Q2) | E17: Precision Lender (Q2) | F17: Precision Lender (Q2) | G17: Precision Lender (Q2) | H17: Precision Lender (Q2) | I17: Precision Lender (Q2) | J17: Precision Lender (Q2) | K17: Precision Lender (Q2) | L17: Precision Lender (Q2) | M17: Precision Lender (Q2) | N17: Precision Lender (Q2) | O17: Precision Lender (Q2) | P17: Precision Lender (Q2) | Q17: Precision Lender (Q2) | S17: Averages
A18: Product Helps Us Optimize Capital and Generate Revenue | B18: 0 | C18: 5 | D18: 3.5 | E18: 5 | F18: 3 | G18: 4 | H18: 0 | I18: 0 | J18: 5 | K18: 4.25 | L18: 4 | M18: 0 | N18: 4 | O18: 4.75 | P18: 3 | Q18: 4 | S18: =AVERAGE(B18:Q18) -> 3.09375
A19: Product Helps Us "Cross-Sell" Relationships | B19: 0 | C19: 5 | D19: 3.5 | E19: 4 | F19: 3 | G19: 3 | H19: 0 | I19: 0 | J19: 4 | K19: 3.5 | L19: 4 | M19: 0 | N19: 4 | O19: 4.85 | P19: 2 | Q19: 3 | S19: =AVERAGE(B19:Q19) -> 2.740625
A20: Product Helps Us Manage Incentives | B20: 0 | C20: 0 | D20: 1.5 | E20: 2 | F20: 2 | G20: 1 | H20: 0 | I20: 0 | J20: 3 | K20: 3.5 | L20: 3 | M20: 0 | N20: 3.5 | O20: 4.25 | P20: 2 | Q20: 0 | S20: =AVERAGE(B20:Q20) -> 1.609375
A21: Product Helps Us With Portfolio Management | B21: 0 | C21: 4 | D21: 4.5 | E21: 2 | F21: 2 | G21: 1 | H21: 0 | I21: 0 | J21: 1 | K21: 2.5 | L21: 3 | M21: 0 | N21: 3 | O21: 4.35 | P21: 1 | Q21: 3 | S21: =AVERAGE(B21:Q21) -> 1.959375
A22: Product Helps Us With Portfolio Reporting | B22: 0 | C22: 4 | D22: 3 | E22: 1 | F22: 3.5 | G22: 1 | H22: 0 | I22: 0 | J22: 1 | K22: 3.25 | L22: 3 | M22: 0 | N22: 3 | O22: 4.9 | P22: 1 | Q22: 3 | S22: =AVERAGE(B22:Q22) -> 1.978125
A23: Product Helps Us With Pipeline Management & Tracking | B23: 0 | C23: 4 | D23: 5 | E23: 4 | F23: 3.5 | G23: 4 | H23: 0 | I23: 0 | J23: 3 | K23: 2.5 | L23: 4 | M23: 0 | N23: 2 | O23: 4.95 | P23: 4 | Q23: 3 | S23: =AVERAGE(B23:Q23) -> 2.746875
A24: Product Helps Us Identify Coaching Opportunities | B24: 0 | C24: 3 | D24: 3 | E24: 2 | F24: 3.6 | G24: 3 | H24: 0 | I24: 0 | J24: 1 | K24: 3.75 | L24: 4.25 | M24: 0 | N24: 3.5 | O24: 4.95 | P24: 3 | Q24: 2 | S24: =AVERAGE(B24:Q24) -> 2.315625
A25: Product Helps Us Understand Competitor Pricing | B25: 0 | C25: 0 | D25: 4 | E25: 4 | F25: 4 | G25: 4.5 | H25: 0 | I25: 0 | J25: 5 | K25: 3 | L25: 4 | M25: 0 | N25: 3.25 | O25: 4.9 | P25: 3 | Q25: 4 | S25: =AVERAGE(B25:Q25) -> 2.728125
